BEGIN:VCALENDAR
VERSION:2.0
PRODID:-//PYVOBJECT//NONSGML Version 0.9.9//EN
BEGIN:VTIMEZONE
TZID:CET
BEGIN:STANDARD
DTSTART:20001029T040000
RRULE:FREQ=YEARLY;BYDAY=-1SU;BYMONTH=10
TZNAME:CET
TZOFFSETFROM:+0200
TZOFFSETTO:+0100
END:STANDARD
BEGIN:DAYLIGHT
DTSTART:20000326T030000
RRULE:FREQ=YEARLY;BYDAY=-1SU;BYMONTH=3
TZNAME:CEST
TZOFFSETFROM:+0100
TZOFFSETTO:+0200
END:DAYLIGHT
END:VTIMEZONE
BEGIN:VEVENT
UID:event-10
DTSTART;TZID=CET:20260326T090000
DTEND;TZID=CET:20260327T160000
DESCRIPTION:Grundlagen des Forschungsmanagements: Drittmittelanträge für
  die Forschung professionell begleiten - Veranstaltung
DTSTAMP:20260422T153153Z
GEO:49.47785,8.4689586
LOCATION:Holiday Inn Mannheim City\,  Mannheim
SUMMARY:Grundlagen des Forschungsmanagements: Drittmittelanträge für die
  Forschung professionell begleiten
URL:https://fortrama.net/events/10/
END:VEVENT
END:VCALENDAR
