BEGIN:VCALENDAR
VERSION:2.0
PRODID:-//PYVOBJECT//NONSGML Version 0.9.9//EN
BEGIN:VTIMEZONE
TZID:CET
BEGIN:STANDARD
DTSTART:20001029T040000
RRULE:FREQ=YEARLY;BYDAY=-1SU;BYMONTH=10
TZNAME:CET
TZOFFSETFROM:+0200
TZOFFSETTO:+0100
END:STANDARD
BEGIN:DAYLIGHT
DTSTART:20000326T030000
RRULE:FREQ=YEARLY;BYDAY=-1SU;BYMONTH=3
TZNAME:CEST
TZOFFSETFROM:+0100
TZOFFSETTO:+0200
END:DAYLIGHT
END:VTIMEZONE
BEGIN:VEVENT
UID:event-25
DTSTART;TZID=CET:20260507T120000
DTEND;TZID=CET:20260507T130000
DESCRIPTION:AG Drittmittel: KI in der Begutachtung bei der DFG - Veranstalt
 ung
DTSTAMP:20260424T130421Z
LOCATION:https://teams.microsoft.com/meet/364295812764636?p=kS8Q0CxXy7aCgcC
 8MP
SUMMARY:AG Drittmittel: KI in der Begutachtung bei der DFG
URL:https://fortrama.net/events/25/
END:VEVENT
END:VCALENDAR
