BEGIN:VCALENDAR
VERSION:2.0
PRODID:-//PYVOBJECT//NONSGML Version 0.9.9//EN
BEGIN:VTIMEZONE
TZID:CET
BEGIN:STANDARD
DTSTART:20001029T040000
RRULE:FREQ=YEARLY;BYDAY=-1SU;BYMONTH=10
TZNAME:CET
TZOFFSETFROM:+0200
TZOFFSETTO:+0100
END:STANDARD
BEGIN:DAYLIGHT
DTSTART:20000326T030000
RRULE:FREQ=YEARLY;BYDAY=-1SU;BYMONTH=3
TZNAME:CEST
TZOFFSETFROM:+0100
TZOFFSETTO:+0200
END:DAYLIGHT
END:VTIMEZONE
BEGIN:VEVENT
UID:event-5
DTSTART;TZID=CET:20260318T100000
DTEND;TZID=CET:20260320T220000
DESCRIPTION:Jahrestagung in Kassel - Veranstaltung
DTSTAMP:20260422T153103Z
GEO:51.3157833,9.4978479
LOCATION:\,  Kassel
SUMMARY:Jahrestagung in Kassel
URL:https://fortrama.net/events/5/
END:VEVENT
END:VCALENDAR
