BEGIN:VCALENDAR
VERSION:2.0
PRODID:-//PYVOBJECT//NONSGML Version 0.9.9//EN
BEGIN:VTIMEZONE
TZID:CET
BEGIN:STANDARD
DTSTART:20001029T040000
RRULE:FREQ=YEARLY;BYDAY=-1SU;BYMONTH=10
TZNAME:CET
TZOFFSETFROM:+0200
TZOFFSETTO:+0100
END:STANDARD
BEGIN:DAYLIGHT
DTSTART:20000326T030000
RRULE:FREQ=YEARLY;BYDAY=-1SU;BYMONTH=3
TZNAME:CEST
TZOFFSETFROM:+0100
TZOFFSETTO:+0200
END:DAYLIGHT
END:VTIMEZONE
BEGIN:VEVENT
UID:event-9
DTSTART;TZID=CET:20260519T090000
DTEND;TZID=CET:20260519T160000
DESCRIPTION:Strategien in der Forschungsförderung entwickeln und unterstü
 tzende Services anbieten - Veranstaltung
DTSTAMP:20260422T131055Z
LOCATION:
SUMMARY:Strategien in der Forschungsförderung entwickeln und unterstützen
 de Services anbieten
URL:https://fortrama.net/events/9/
END:VEVENT
BEGIN:VEVENT
UID:event-19
DTSTART;TZID=CET:20260521T100000
DTEND;TZID=CET:20260521T120000
DESCRIPTION:Info-Veranstaltung: Die Bedeutung der Exportkontrolle für das 
 Forschungsmanagement - Veranstaltung
DTSTAMP:20260422T131055Z
LOCATION:Zeit: 21. Mai 2026 10:00 AM Amsterdam\, Berlin\, Rom\, Stockholm\,
  Wien\nAn Zoom-Meeting teilnehmen\nhttps://us06web.zoom.us/j/87697302349?p
 wd=GbdGpd7Fh5MxepoDpVWgSo62i4FvCd.1\n\nMeeting-ID: 876 9730 2349\nKenncode
 : 806152
SUMMARY:Info-Veranstaltung: Die Bedeutung der Exportkontrolle für das Fors
 chungsmanagement
URL:https://fortrama.net/events/19/
END:VEVENT
BEGIN:VEVENT
UID:event-13
DTSTART;TZID=CET:20260521T123000
DTEND;TZID=CET:20260522T123000
DESCRIPTION:Präsenztreffen der AG Wissenschaftlicher Nachwuchs - Veranstal
 tung
DTSTAMP:20260422T131055Z
GEO:52.1401298,11.6757769
LOCATION:Breitscheidstr. 2\, 39114 Magdeburg
SUMMARY:Präsenztreffen der AG Wissenschaftlicher Nachwuchs
URL:https://fortrama.net/events/13/
END:VEVENT
BEGIN:VEVENT
UID:event-8
DTSTART;TZID=CET:20260907T090000
DTEND;TZID=CET:20261130T140000
DESCRIPTION:Beratung leicht gemacht im Forschungsmanagement – Live-Online
 -Format - Veranstaltung
DTSTAMP:20260422T131055Z
LOCATION:
SUMMARY:Beratung leicht gemacht im Forschungsmanagement – Live-Online-For
 mat
URL:https://fortrama.net/events/8/
END:VEVENT
BEGIN:VEVENT
UID:event-11
DTSTART;TZID=CET:20260916T130000
DTEND;TZID=CET:20261231T140000
DESCRIPTION:Fokus Fördermittelgeber: Stifterverband - Veranstaltung
DTSTAMP:20260422T131055Z
LOCATION:Stifterverband
SUMMARY:Fokus Fördermittelgeber: Stifterverband
URL:https://fortrama.net/events/11/
END:VEVENT
BEGIN:VEVENT
UID:event-7
DTSTART;TZID=CET:20261007T090000
DTEND;TZID=CET:20261007T160000
DESCRIPTION:Strategien in der Forschungsförderung entwickeln und unterstü
 tzende Services anbieten - Veranstaltung
DTSTAMP:20260422T131055Z
LOCATION:
SUMMARY:Strategien in der Forschungsförderung entwickeln und unterstützen
 de Services anbieten
URL:https://fortrama.net/events/7/
END:VEVENT
BEGIN:VEVENT
UID:event-16
DTSTART;TZID=CET:20261110T090000
DTEND;TZID=CET:20261111T150000
DESCRIPTION:Wissenschaftskommunikation in Förderanträgen - Veranstaltung
DTSTAMP:20260422T131055Z
LOCATION:
SUMMARY:Wissenschaftskommunikation in Förderanträgen
URL:https://fortrama.net/events/16/
END:VEVENT
END:VCALENDAR
